BEGIN:VCALENDAR
VERSION:2.0
PRODID:-//IPEC India - ECPv6.15.20//NONSGML v1.0//EN
CALSCALE:GREGORIAN
METHOD:PUBLISH
X-WR-CALNAME:IPEC India
X-ORIGINAL-URL:https://ipecindia.org
X-WR-CALDESC:Events for IPEC India
REFRESH-INTERVAL;VALUE=DURATION:PT1H
X-Robots-Tag:noindex
X-PUBLISHED-TTL:PT1H
BEGIN:VTIMEZONE
TZID:Asia/Kolkata
BEGIN:STANDARD
TZOFFSETFROM:+0530
TZOFFSETTO:+0530
TZNAME:IST
DTSTART:20220101T000000
END:STANDARD
END:VTIMEZONE
BEGIN:VTIMEZONE
TZID:UTC
BEGIN:STANDARD
TZOFFSETFROM:+0000
TZOFFSETTO:+0000
TZNAME:UTC
DTSTART:20210101T000000
END:STANDARD
END:VTIMEZONE
BEGIN:VEVENT
DTSTART;TZID=Asia/Kolkata:20240531T090000
DTEND;TZID=Asia/Kolkata:20240531T180000
DTSTAMP:20260421T164319
CREATED:20240320T164256Z
LAST-MODIFIED:20240529T133237Z
UID:6841-1717146000-1717178400@ipecindia.org
SUMMARY:IPEC India Annual Conference 2024
DESCRIPTION:Theme: Safe Pharmaceuticals through quality excipients \n  \nDate: Friday\, May 31\, 2024 \n  \nVenue: Hotel Radisson Blu Plaza\, Banjara Hills\, Hyderabad \nDownload Brochure \nDownload Agenda – Souvenir
URL:https://ipecindia.org/event/ipec-india-annual-conference-2024/
LOCATION:Hotel Radisson Blu Plaza\, Banjara Hills\, Hyderabad\, Telangana\, 500034\, India
ATTACH;FMTTYPE=image/jpeg:https://ipecindia.org/wp-content/uploads/2024/03/Annual-conference-2024.jpg
ORGANIZER;CN="IPEC India":MAILTO:admin@ipecindia.org
END:VEVENT
BEGIN:VEVENT
DTSTART;TZID=Asia/Kolkata:20240422T160000
DTEND;TZID=Asia/Kolkata:20240422T173000
DTSTAMP:20260421T164319
CREATED:20240410T084857Z
LAST-MODIFIED:20240410T085005Z
UID:6851-1713801600-1713807000@ipecindia.org
SUMMARY:Ascorbic Acid And Alpha-Tocopherol As Nitrite Scavengers - An Elegant And Simple Solution To Mitigate Nitrosamines In Drug Products
DESCRIPTION:IPEC India jointly with Azelis India & dsm-firmenich invites you to a knowledge-sharing webinar on “Ascorbic Acid And Alpha-Tocopherol As Nitrite Scavengers – An Elegant And Simple Solution To Mitigate Nitrosamines In Drug Products.” on Monday\, April 22\, 2024 at 16:00 hrs to 17:30 hrs. \n  \nJoin the team of Anne-Cécile Bayne\, Ph.D. Global Science and Innovation Lead – Pharma & Medical Nutrition\, Zdravka Misic\, Ph.D. Principle Scientist in innovation\, & Fernanda Onofre\, Ph.D. Global Market Development Manager – Pharma Excipients\, dsm-firmenich. \n  \ndsm-firmenich will discuss how ascorbic acid and alpha-tocopherol are effective nitrosamine mitigation strategies\, highlighting their performance in various formulation models with different drugs. \n  \nLearning objectives: the audience will understand how and why ascorbic acid and alpha-tocopherol minimize the formation of nitrosamines\, and how they perform in different drug models. They will receive application tips on how to use them in different pharmaceutical processes\, understand some of the challenges they may face\, and how to minimize their impact. \n  \nKindly register for the webinar through the Link: https://zoom.us/webinar/register/WN_xhI9LL-GTne_rWJO4GSwHg#/registration\n(There are no registration fees but registration for the webinar is mandatory)
URL:https://ipecindia.org/event/ascorbic-acid-and-alpha-tocopherol-as-nitrite-scavengers-an-elegant-and-simple-solution-to-mitigate-nitrosamines-in-drug-products/
ATTACH;FMTTYPE=image/jpeg:https://ipecindia.org/wp-content/uploads/2024/04/Indian_webinar_invitation_LI_1000x600px_v3.jpg
ORGANIZER;CN="IPEC India":MAILTO:admin@ipecindia.org
END:VEVENT
BEGIN:VEVENT
DTSTART;TZID=Asia/Kolkata:20231215T101500
DTEND;TZID=Asia/Kolkata:20231215T114500
DTSTAMP:20260421T164319
CREATED:20231215T063050Z
LAST-MODIFIED:20231215T063512Z
UID:6796-1702635300-1702640700@ipecindia.org
SUMMARY:“Importance of Quality Compliance & Patient Safety” - Industry Practices & Regulatory Expectations.
DESCRIPTION:IPEC India is pleased to associate with Pharmexcil (Pharmaceuticals Export Promotion Council of India)\nfor the Capacity Building Programme on\n“Importance of Quality Compliance & Patient Safety” – Industry Practices & Regulatory Expectations.\nDetails of the program: https://pharmexcil.com/circulars/bangalorechapterof%E2%80%9Ccapacitybuildingprogrammeon%E2%80%9Cimportanceofqualitycompliance-patient-safety-%E2%80%93-industry-practices—regulatory-expectations%E2%80%9D-on-15.dec.2023–friday–at-the-capitolhotel-bangalore./11011/e7171d79a95ddd4edebfc13e160ad198.html\n —\nAgenda: https://drive.google.com/file/d/1L-9aZAucz4_hQUgwwztqHjKm713NfAdI/view\n—\nRegistration link: https://forms.gle/yCNHfN6UoSqeYNR66\n—
URL:https://ipecindia.org/event/importance-of-quality-compliance-patient-safety-industry-practices-regulatory-expectations-2/
END:VEVENT
BEGIN:VEVENT
DTSTART;TZID=Asia/Kolkata:20231109T093000
DTEND;TZID=Asia/Kolkata:20231109T170000
DTSTAMP:20260421T164319
CREATED:20231104T082152Z
LAST-MODIFIED:20231104T082159Z
UID:6784-1699522200-1699549200@ipecindia.org
SUMMARY:Pharmaceutical Quality Compliance & Foreign Trade - Industry Practices & Regulatory Expectations.
DESCRIPTION:IPEC India is pleased to associate with Pharmexcil (Pharmaceuticals Export Promotion Council of India) for the Capacity Building Programme on “Pharmaceutical Quality Compliance & Foreign Trade – Industry Practices & Regulatory Expectations.” on Thursday\, November 9\, 2023 at ACG SciTech Centre\, Prabhat Nagar\, Jogeshwari (w)\, Mumbai. \nMore details along with agenda and registration is appended below. \nClick on links below for \n\nDetails of the program\nAgenda\n\nRegistration link: https://forms.gle/Ppm9fEXPZK3AW8cb9 (link active till Sunday\, November 5\, 2023) \nMs. Vishakha Metkar\, Chairperson\, Regulatory Committee is representing IPEC India and will be delivering presentation on “Supplier Verification & Risk Management“.
URL:https://ipecindia.org/event/pharmaceutical-quality-compliance-foreign-trade-industry-practices-regulatory-expectations/
LOCATION:SciTech Centre\, 7 Prabhat Nagar\, Jogeshwari West\, Mumbai\, Maharashtra\, 400012\, India
END:VEVENT
BEGIN:VEVENT
DTSTART;TZID=Asia/Kolkata:20231006T093000
DTEND;TZID=Asia/Kolkata:20231006T163000
DTSTAMP:20260421T164319
CREATED:20230929T162154Z
LAST-MODIFIED:20230929T162217Z
UID:6766-1696584600-1696609800@ipecindia.org
SUMMARY:Importance of Quality Compliance & Patient Safety – Industry Practices & Regulatory Expectations
DESCRIPTION:IPEC India is pleased to associate with Pharmexcil (Pharmaceuticals Export Promotion Council of India) For the Capacity Building Program on Importance of quality compliance & patient safety (industry practices & regulatory expectations)\nFor details of the program Click here\nClick to get: Agenda
URL:https://ipecindia.org/event/importance-of-quality-compliance-patient-safety-industry-practices-regulatory-expectations/
END:VEVENT
BEGIN:VEVENT
DTSTART;TZID=Asia/Kolkata:20230828T150000
DTEND;TZID=Asia/Kolkata:20230828T170000
DTSTAMP:20260421T164319
CREATED:20230824T053512Z
LAST-MODIFIED:20230824T094818Z
UID:6747-1693234800-1693242000@ipecindia.org
SUMMARY:Tablet Manufacturing: Role of excipient in addressing tablet hardness challenges - By Fred Rowley
DESCRIPTION:Registration link: https://forms.gle/p6BebpDKzMKuufJ8A
URL:https://ipecindia.org/event/tablet-manufacturing-role-of-excipient-in-addressing-tablet-hardness-challenges/
LOCATION:SciTech Centre\, 7 Prabhat Nagar\, Jogeshwari West\, Mumbai\, Maharashtra\, 400012\, India
ORGANIZER;CN="IPEC India":MAILTO:admin@ipecindia.org
END:VEVENT
BEGIN:VEVENT
DTSTART;TZID=Asia/Kolkata:20230628T160000
DTEND;TZID=Asia/Kolkata:20230628T173000
DTSTAMP:20260421T164319
CREATED:20230620T094228Z
LAST-MODIFIED:20230620T095521Z
UID:6714-1687968000-1687973400@ipecindia.org
SUMMARY:The EXCiPACT GxP Certification Scheme for excipients
DESCRIPTION:Registration link: https://zoom.us/webinar/register/WN_MI01V_LESiGP8Xn3brYVUg
URL:https://ipecindia.org/event/excipact-gxp-certification/
END:VEVENT
BEGIN:VEVENT
DTSTART;TZID=Asia/Kolkata:20230526T090000
DTEND;TZID=Asia/Kolkata:20230526T180000
DTSTAMP:20260421T164319
CREATED:20230417T023233Z
LAST-MODIFIED:20230603T104540Z
UID:6420-1685091600-1685124000@ipecindia.org
SUMMARY:IPEC India Annual Conference 2023
DESCRIPTION: 
URL:https://ipecindia.org/event/annual-conference-2023/
LOCATION:Hotel Orchid\, Nehru road\, Vile Parle East\, Mumbai\, Maharashtra\, 400099\, India
ATTACH;FMTTYPE=image/png:https://ipecindia.org/wp-content/uploads/2023/04/IPEC-Annual-Conference-Poster-Social-Media.png
ORGANIZER;CN="IPEC India":MAILTO:admin@ipecindia.org
END:VEVENT
BEGIN:VEVENT
DTSTART;TZID=Asia/Kolkata:20230315T140000
DTEND;TZID=Asia/Kolkata:20230315T153000
DTSTAMP:20260421T164319
CREATED:20230417T042619Z
LAST-MODIFIED:20230417T042943Z
UID:6428-1678888800-1678894200@ipecindia.org
SUMMARY:Webinar on “Solubility and Bioavailability Enhancement”
DESCRIPTION:by Dr. Markus Lubda\, Strategic Marketing Manager\, Merck KGaA\, Germany
URL:https://ipecindia.org/event/webinar-on-solubility-and-bioavailability-enhancement/
END:VEVENT
BEGIN:VEVENT
DTSTART;TZID=Asia/Kolkata:20230213T150000
DTEND;TZID=Asia/Kolkata:20230213T170000
DTSTAMP:20260421T164319
CREATED:20230417T043944Z
LAST-MODIFIED:20230417T043944Z
UID:6436-1676300400-1676307600@ipecindia.org
SUMMARY:Interactive Workshop on “Why blame the Excipients?” “Why the blame for poor powder flow in tablet compression is sometimes  misplaced!”
DESCRIPTION:by Mr. Fred Rowley\, International Consultant\, USA
URL:https://ipecindia.org/event/interactive-workshop-on-why-blame-the-excipients-why-the-blame-for-poor-powder-flow-in-tablet-compression-is-sometimes-misplaced/
LOCATION:SciTech Centre\, 7 Prabhat Nagar\, Jogeshwari West\, Mumbai\, Maharashtra\, 400012\, India
END:VEVENT
BEGIN:VEVENT
DTSTART;TZID=UTC:20230209T170000
DTEND;TZID=UTC:20230209T190000
DTSTAMP:20260421T164319
CREATED:20230417T043434Z
LAST-MODIFIED:20230417T043434Z
UID:6433-1675962000-1675969200@ipecindia.org
SUMMARY:Virtual training series on "Key Global Excipient Regulations for generic Drug Development"
DESCRIPTION:by David Schoneker\, President\, Black Diamond Regulatory\, Consulting LLC\, USA \n9\, 14 & 15 February 2023 17:00 to 19:00 IST
URL:https://ipecindia.org/event/virtual-training-series-on-key-global-excipient-regulations-for-generic-drug-development/
END:VEVENT
BEGIN:VEVENT
DTSTART;VALUE=DATE:20230120
DTEND;VALUE=DATE:20230123
DTSTAMP:20260421T164319
CREATED:20230417T044624Z
LAST-MODIFIED:20230417T044624Z
UID:6441-1674172800-1674431999@ipecindia.org
SUMMARY:IPEC India Scientific Session at 72nd Indian Pharmaceutical Congress
DESCRIPTION:
URL:https://ipecindia.org/event/ipec-india-scientific-session-at-72nd-indian-pharmaceutical-congress/
LOCATION:Rashtrasant Tukadoji Maharaj Nagpur University\, Amravati Rd\, Gokulpeth\, Nagpur\, Maharashtra\, 440033\, India
END:VEVENT
BEGIN:VEVENT
DTSTART;VALUE=DATE:20220824
DTEND;VALUE=DATE:20220825
DTSTAMP:20260421T164319
CREATED:20230417T044955Z
LAST-MODIFIED:20230417T044955Z
UID:6446-1661299200-1661385599@ipecindia.org
SUMMARY:Webinar on "Future Trends in OSD Lubrication”
DESCRIPTION:Presented by Mr. Ravleen Singh Khurana\, MD\, Nitika Pharmaceutical Specialities Pvt. Ltd
URL:https://ipecindia.org/event/webinar-on-future-trends-in-osd-lubrication/
END:VEVENT
BEGIN:VEVENT
DTSTART;VALUE=DATE:20220621
DTEND;VALUE=DATE:20220622
DTSTAMP:20260421T164319
CREATED:20230417T045247Z
LAST-MODIFIED:20230417T045247Z
UID:6449-1655769600-1655855999@ipecindia.org
SUMMARY:Webinar on "3D Printing – The Future of Pharmaceutical Manufacturing”
DESCRIPTION:Presented by Ms. Korinde van den Heuvel\, Senior Product Developer\, DFE Pharma
URL:https://ipecindia.org/event/webinar-on-3d-printing-the-future-of-pharmaceutical-manufacturing/
END:VEVENT
BEGIN:VEVENT
DTSTART;VALUE=DATE:20220531
DTEND;VALUE=DATE:20220601
DTSTAMP:20260421T164319
CREATED:20230417T045544Z
LAST-MODIFIED:20230417T045602Z
UID:6452-1653955200-1654041599@ipecindia.org
SUMMARY:Webinar on "Role of Excipients in Breaking Down Barriers to Bioavailability & Overcoming Insolubility Issues – A Practical Approach"
DESCRIPTION:Presented by Mr. Ruchir Shah\, Sr. Technical Manager\, Azelis India Pvt Ltd.
URL:https://ipecindia.org/event/webinar-on-role-of-excipients-in-breaking-down-barriers-to-bioavailability-overcoming-insolubility-issues-a-practical-approach/
END:VEVENT
BEGIN:VEVENT
DTSTART;VALUE=DATE:20220323
DTEND;VALUE=DATE:20220324
DTSTAMP:20260421T164319
CREATED:20230417T045930Z
LAST-MODIFIED:20230417T045930Z
UID:6455-1647993600-1648079999@ipecindia.org
SUMMARY:Webinar on "Novel Excipients: A Boon or Bane for the Pharmaceutical Industry"
DESCRIPTION:Presented by Dr. Alen Guy\, Technical Director\, Pharmaceuticals\, IMCD
URL:https://ipecindia.org/event/webinar-on-novel-excipients-a-boon-or-bane-for-the-pharmaceutical-industry/
END:VEVENT
BEGIN:VEVENT
DTSTART;VALUE=DATE:20220121
DTEND;VALUE=DATE:20220122
DTSTAMP:20260421T164319
CREATED:20230417T050110Z
LAST-MODIFIED:20230417T050110Z
UID:6458-1642723200-1642809599@ipecindia.org
SUMMARY:Webinar on "Solubility enhancement by hot melt extrusion: From early screening to final formulation development"
DESCRIPTION:Presented by Dr. Thomas Kipping\, Head of Drug Carriers\, Merck.
URL:https://ipecindia.org/event/webinar-on-solubility-enhancement-by-hot-melt-extrusion-from-early-screening-to-final-formulation-development/
END:VEVENT
END:VCALENDAR